BEGIN:VCALENDAR
VERSION:2.0
PRODID:-//eventon.com NONSGML v1.0//EN
CALSCALE:GREGORIAN
METHOD:PUBLISH
BEGIN:VEVENT
UID:69e5f70adb0fe
DTSTAMP:20260420T095106Z
DTSTART:20260530T140000Z
DTEND:20260531T055900Z
LOCATION:
SUMMARY:Election Offices Open (8:00 a.m. to 5:00 p.m.)
DESCRIPTION:Election Offices Open (8:00 a.m. to 5:00 p.m.)\nhttps://votemt.
 gov/events/election-offices-open-800-a-m-to-500-p-m/
URL:https://votemt.gov/events/election-offices-open-800-a-m-to-500-p-m/
END:VEVENT
END:VCALENDAR