BEGIN:VCALENDAR
VERSION:2.0
PRODID:-//eventon.com NONSGML v1.0//EN
CALSCALE:GREGORIAN
METHOD:PUBLISH
BEGIN:VEVENT
UID:69e5f6be659e5
DTSTAMP:20260420T094950Z
DTSTART:20261031T140000Z
DTEND:20261101T055900Z
LOCATION:
SUMMARY:Election Offices Open (8:00 a.m. to 5:00 p.m.)
DESCRIPTION:Election Offices Open (8:00 a.m. to 5:00 p.m.)\nhttps://votemt.
 gov/events/election-offices-open-800-a-m-to-500-p-m-general/
URL:https://votemt.gov/events/election-offices-open-800-a-m-to-500-p-m-general/
END:VEVENT
END:VCALENDAR