BEGIN:VCALENDAR
VERSION:2.0
PRODID:-//eventon.com NONSGML v1.0//EN
CALSCALE:GREGORIAN
METHOD:PUBLISH
BEGIN:VEVENT
UID:69e5f6be878d8
DTSTAMP:20260420T094950Z
DTSTART:20261103T140000Z
DTEND:20261104T065900Z
LOCATION:
SUMMARY:General Election Day
DESCRIPTION:Time: For polling place elections polls must be open 7 am to 8 
 pm except as provided in 13-1-106\nhttps://votemt.gov/events/general-electi
 on-day/
URL:https://votemt.gov/events/general-election-day/
END:VEVENT
END:VCALENDAR