BEGIN:VCALENDAR
VERSION:2.0
PRODID:-//eventon.com NONSGML v1.0//EN
CALSCALE:GREGORIAN
METHOD:PUBLISH
BEGIN:VEVENT
UID:69e5f6ca5eb00
DTSTAMP:20260420T095002Z
DTSTART:20260810T230000Z
DTEND:20260811T055900Z
LOCATION:
SUMMARY:Withdraw From General Election Candidacy
DESCRIPTION:85 days before a general election 13-10-327(2).\nhttps://votemt
 .gov/events/withdraw-from-general-election-candidacy/
URL:https://votemt.gov/events/withdraw-from-general-election-candidacy/
END:VEVENT
END:VCALENDAR