BEGIN:VCALENDAR
VERSION:2.0
PRODID:-//eventon.com NONSGML v1.0//EN
CALSCALE:GREGORIAN
METHOD:PUBLISH
BEGIN:VEVENT
UID:69e5f70f98648
DTSTAMP:20260420T095111Z
DTSTART:20260602T130000Z
DTEND:20260603T055900Z
LOCATION:
SUMMARY:Primary Election Day
DESCRIPTION:Time: For polling place elections polls must be open 7 am to 8 
 pm except as provided in 13-1-106\nhttps://votemt.gov/events/election-day/
URL:https://votemt.gov/events/election-day/
END:VEVENT
END:VCALENDAR