BEGIN:VCALENDAR
VERSION:2.0
PRODID:-//eventon.com NONSGML v1.0//EN
CALSCALE:GREGORIAN
METHOD:PUBLISH
BEGIN:VEVENT
UID:69e5f6b4891ca
DTSTAMP:20260420T094940Z
DTSTART:20261005T230000Z
DTEND:20261006T055900Z
LOCATION:
SUMMARY:Close of Regular Registration
DESCRIPTION:30 days before any election 13-2-301.\nhttps://votemt.gov/event
 s/close-of-regular-registration/
URL:https://votemt.gov/events/close-of-regular-registration/
END:VEVENT
END:VCALENDAR