BEGIN:VCALENDAR
VERSION:2.0
PRODID:-//eventon.com NONSGML v1.0//EN
CALSCALE:GREGORIAN
METHOD:PUBLISH
BEGIN:VEVENT
UID:69e5f7004cf80
DTSTAMP:20260420T095056Z
DTSTART:20261006T140000Z
DTEND:20261007T055900Z
LOCATION:
SUMMARY:Late Registration Begins – General Election
DESCRIPTION:After the close of regular registration 13-2-304.\nhttps://vote
 mt.gov/events/late-registration-begins-general-election/
URL:https://votemt.gov/events/late-registration-begins-general-election/
END:VEVENT
END:VCALENDAR