BEGIN:VCALENDAR
VERSION:2.0
PRODID:-//eventon.com NONSGML v1.0//EN
CALSCALE:GREGORIAN
METHOD:PUBLISH
BEGIN:VEVENT
UID:69e5f6ca5e67f
DTSTAMP:20260420T095002Z
DTSTART:20261009T140000Z
DTEND:20261010T055900Z
LOCATION:
SUMMARY:General Election Absentee Ballots Sent
DESCRIPTION:General Election Absentee Ballots Sent\nhttps://votemt.gov/even
 ts/general-election-absentee-ballots-sent/
URL:https://votemt.gov/events/general-election-absentee-ballots-sent/
END:VEVENT
END:VCALENDAR